Package: GEOsubmission Version: 1.63.0 Maintainer: Alexandre Kuhn MaintainerEmail: alexandre.m.kuhn at gmail.com git_url: https://git.bioconductor.org/packages/GEOsubmission git_branch: devel git_last_commit: 6bd8c28 git_last_commit_date: 2025-10-29 10:04:59 -0500 (Wed, 29 Oct 2025)