Package: GEOquery Version: 2.79.0 Command: /home/biocbuild/bbs-3.23-bioc/R/bin/R CMD INSTALL GEOquery StartedAt: 2025-11-11 15:37:09 -0500 (Tue, 11 Nov 2025) EndedAt: 2025-11-11 15:37:34 -0500 (Tue, 11 Nov 2025) EllapsedTime: 25.0 seconds RetCode: 0 Status: OK