Package: GEOquery Version: 2.79.0 Command: /home/biocbuild/bbs-3.23-bioc/R/bin/R CMD build --keep-empty-dirs --no-resave-data GEOquery StartedAt: 2025-11-11 17:50:37 -0500 (Tue, 11 Nov 2025) EndedAt: 2025-11-11 17:50:39 -0500 (Tue, 11 Nov 2025) EllapsedTime: 2.0 seconds RetCode: 0 Status: OK PackageFile: GEOquery_2.79.0.tar.gz PackageFileSize: 12.83 MiB