Package: GEOquery Version: 2.79.0 Command: /Library/Frameworks/R.framework/Resources/bin/R CMD INSTALL GEOquery StartedAt: 2025-11-12 15:35:24 -0500 (Wed, 12 Nov 2025) EndedAt: 2025-11-12 15:35:35 -0500 (Wed, 12 Nov 2025) EllapsedTime: 10.5 seconds RetCode: 0 Status: OK