Package: GEOquery Version: 2.79.0 Command: rm -rf GEOquery.buildbin-libdir && mkdir GEOquery.buildbin-libdir && /Users/biocbuild/BBS/utils/build-universal.sh GEOquery_2.79.0.tar.gz /Library/Frameworks/R.framework/Resources/bin/R GEOquery.buildbin-libdir StartedAt: 2025-11-13 23:39:35 -0500 (Thu, 13 Nov 2025) EndedAt: 2025-11-13 23:39:49 -0500 (Thu, 13 Nov 2025) EllapsedTime: 13.3 seconds RetCode: 0 Status: OK PackageFile: GEOquery_2.79.0.tgz PackageFileSize: 13.13 MiB