Package: GEOquery Version: 2.79.0 Maintainer: Sean Davis MaintainerEmail: seandavi at gmail.com git_url: https://git.bioconductor.org/packages/GEOquery git_branch: devel git_last_commit: 05cec56 git_last_commit_date: 2025-10-29 09:57:26 -0500 (Wed, 29 Oct 2025)