Package: GEOmetadb Version: 1.73.0 Command: /home/biocbuild/bbs-3.23-bioc/R/bin/R CMD build --keep-empty-dirs --no-resave-data GEOmetadb StartedAt: 2025-11-13 17:47:08 -0500 (Thu, 13 Nov 2025) EndedAt: 2025-11-13 17:47:23 -0500 (Thu, 13 Nov 2025) EllapsedTime: 15.0 seconds RetCode: 0 Status: OK PackageFile: GEOmetadb_1.73.0.tar.gz PackageFileSize: 634.7 KiB