Package: GEOmetadb Version: 1.73.0 Command: /Library/Frameworks/R.framework/Resources/bin/R CMD INSTALL GEOmetadb StartedAt: 2025-11-14 15:03:07 -0500 (Fri, 14 Nov 2025) EndedAt: 2025-11-14 15:03:12 -0500 (Fri, 14 Nov 2025) EllapsedTime: 4.7 seconds RetCode: 0 Status: OK