Package: GEOmetadb Version: 1.73.0 Maintainer: Jack Zhu MaintainerEmail: zhujack at mail.nih.gov git_url: https://git.bioconductor.org/packages/GEOmetadb git_branch: devel git_last_commit: c3ec251 git_last_commit_date: 2025-10-29 10:00:25 -0500 (Wed, 29 Oct 2025)