Package: GEOfastq Version: 1.19.0 Command: /Library/Frameworks/R.framework/Resources/bin/R CMD INSTALL GEOfastq StartedAt: 2025-11-13 15:03:50 -0500 (Thu, 13 Nov 2025) EndedAt: 2025-11-13 15:04:08 -0500 (Thu, 13 Nov 2025) EllapsedTime: 18.3 seconds RetCode: 0 Status: OK