Package: GEOfastq Version: 1.19.0 Command: /Library/Frameworks/R.framework/Resources/bin/R CMD build --keep-empty-dirs --no-resave-data GEOfastq StartedAt: 2025-11-13 16:31:14 -0500 (Thu, 13 Nov 2025) EndedAt: 2025-11-13 16:31:22 -0500 (Thu, 13 Nov 2025) EllapsedTime: 8.1 seconds RetCode: 0 Status: OK PackageFile: GEOfastq_1.19.0.tar.gz PackageFileSize: 13.07 KiB