Package: GEOfastq Version: 1.19.0 Command: rm -rf GEOfastq.buildbin-libdir && mkdir GEOfastq.buildbin-libdir && /Users/biocbuild/BBS/utils/build-universal.sh GEOfastq_1.19.0.tar.gz /Library/Frameworks/R.framework/Resources/bin/R GEOfastq.buildbin-libdir StartedAt: 2025-11-13 23:39:34 -0500 (Thu, 13 Nov 2025) EndedAt: 2025-11-13 23:39:36 -0500 (Thu, 13 Nov 2025) EllapsedTime: 2.1 seconds RetCode: 0 Status: OK PackageFile: GEOfastq_1.19.0.tgz PackageFileSize: 37.1 KiB