Package: GEOfastq Version: 1.19.0 Maintainer: Alex Pickering MaintainerEmail: alexvpickering at gmail.com git_url: https://git.bioconductor.org/packages/GEOfastq git_branch: devel git_last_commit: 8f661e7 git_last_commit_date: 2025-10-29 11:05:10 -0500 (Wed, 29 Oct 2025)