Package: GENIE3 Version: 1.33.0 Command: /Library/Frameworks/R.framework/Resources/bin/R CMD INSTALL GENIE3 StartedAt: 2025-11-13 15:05:02 -0500 (Thu, 13 Nov 2025) EndedAt: 2025-11-13 15:05:09 -0500 (Thu, 13 Nov 2025) EllapsedTime: 6.0 seconds RetCode: 0 Status: OK