Package: GENIE3 Version: 1.33.0 Command: /Library/Frameworks/R.framework/Resources/bin/R CMD build --keep-empty-dirs --no-resave-data GENIE3 StartedAt: 2025-11-13 16:29:31 -0500 (Thu, 13 Nov 2025) EndedAt: 2025-11-13 16:29:35 -0500 (Thu, 13 Nov 2025) EllapsedTime: 4.1 seconds RetCode: 0 Status: OK PackageFile: GENIE3_1.33.0.tar.gz PackageFileSize: 241.4 KiB