Package: GENESIS Version: 2.41.0 Command: /Library/Frameworks/R.framework/Resources/bin/R CMD INSTALL GENESIS StartedAt: 2025-11-14 15:15:23 -0500 (Fri, 14 Nov 2025) EndedAt: 2025-11-14 15:15:33 -0500 (Fri, 14 Nov 2025) EllapsedTime: 9.9 seconds RetCode: 0 Status: OK