Package: GENESIS Version: 2.41.0 Command: /Library/Frameworks/R.framework/Resources/bin/R CMD build --keep-empty-dirs --no-resave-data GENESIS StartedAt: 2025-11-14 16:26:11 -0500 (Fri, 14 Nov 2025) EndedAt: 2025-11-14 16:26:53 -0500 (Fri, 14 Nov 2025) EllapsedTime: 42.5 seconds RetCode: 0 Status: OK PackageFile: GENESIS_2.41.0.tar.gz PackageFileSize: 3.847 MiB