Package: GDSArray Version: 1.31.0 Command: /home/biocbuild/bbs-3.23-bioc/R/bin/R CMD INSTALL GDSArray StartedAt: 2025-11-13 15:24:32 -0500 (Thu, 13 Nov 2025) EndedAt: 2025-11-13 15:24:50 -0500 (Thu, 13 Nov 2025) EllapsedTime: 17.8 seconds RetCode: 0 Status: OK