Package: GDSArray Version: 1.31.0 Command: /home/biocbuild/bbs-3.23-bioc/R/bin/R CMD check --install=check:GDSArray.install-out.txt --library=/home/biocbuild/bbs-3.23-bioc/R/site-library --timings GDSArray_1.31.0.tar.gz StartedAt: 2025-11-14 23:45:38 -0500 (Fri, 14 Nov 2025) EndedAt: 2025-11-14 23:47:48 -0500 (Fri, 14 Nov 2025) EllapsedTime: 130.1 seconds RetCode: 0 Status: OK CheckDir: GDSArray.Rcheck Warnings: 0