Package: GDSArray Version: 1.31.0 Command: /home/biocbuild/bbs-3.23-bioc/R/bin/R CMD build --keep-empty-dirs --no-resave-data GDSArray StartedAt: 2025-11-13 17:41:55 -0500 (Thu, 13 Nov 2025) EndedAt: 2025-11-13 17:42:22 -0500 (Thu, 13 Nov 2025) EllapsedTime: 27.0 seconds RetCode: 0 Status: OK PackageFile: GDSArray_1.31.0.tar.gz PackageFileSize: 305.6 KiB