Package: GDSArray Version: 1.31.0 Command: /Library/Frameworks/R.framework/Resources/bin/R CMD INSTALL GDSArray StartedAt: 2025-11-13 15:15:26 -0500 (Thu, 13 Nov 2025) EndedAt: 2025-11-13 15:15:33 -0500 (Thu, 13 Nov 2025) EllapsedTime: 7.4 seconds RetCode: 0 Status: OK