Package: GDCRNATools Version: 1.31.0 Command: /home/biocbuild/bbs-3.23-bioc/R/bin/R CMD INSTALL GDCRNATools StartedAt: 2025-11-21 15:49:01 -0500 (Fri, 21 Nov 2025) EndedAt: 2025-11-21 15:50:01 -0500 (Fri, 21 Nov 2025) EllapsedTime: 59.8 seconds RetCode: 0 Status: OK