Package: GDCRNATools Version: 1.31.0 Command: /Library/Frameworks/R.framework/Resources/bin/R CMD INSTALL GDCRNATools StartedAt: 2025-11-14 15:25:12 -0500 (Fri, 14 Nov 2025) EndedAt: 2025-11-14 15:25:37 -0500 (Fri, 14 Nov 2025) EllapsedTime: 25.5 seconds RetCode: 0 Status: OK