Package: GDCRNATools Version: 1.31.0 Command: /Library/Frameworks/R.framework/Resources/bin/R CMD build --keep-empty-dirs --no-resave-data GDCRNATools StartedAt: 2025-11-14 16:24:24 -0500 (Fri, 14 Nov 2025) EndedAt: 2025-11-14 16:24:52 -0500 (Fri, 14 Nov 2025) EllapsedTime: 28.3 seconds RetCode: 0 Status: OK PackageFile: GDCRNATools_1.31.0.tar.gz PackageFileSize: 5.313 MiB