Package: GBScleanR Version: 2.5.3 Command: /home/biocbuild/bbs-3.23-bioc/R/bin/R CMD INSTALL GBScleanR StartedAt: 2025-11-21 15:33:45 -0500 (Fri, 21 Nov 2025) EndedAt: 2025-11-21 15:34:31 -0500 (Fri, 21 Nov 2025) EllapsedTime: 46.0 seconds RetCode: 0 Status: OK