Package: GBScleanR Version: 2.5.3 Command: /home/biocbuild/bbs-3.23-bioc/R/bin/R CMD build --keep-empty-dirs --no-resave-data GBScleanR StartedAt: 2025-11-21 17:41:29 -0500 (Fri, 21 Nov 2025) EndedAt: 2025-11-21 17:42:48 -0500 (Fri, 21 Nov 2025) EllapsedTime: 79.1 seconds RetCode: 1 Status: ERROR PackageFile: None PackageFileSize: NA