Package: GBScleanR Version: 2.5.2 Command: /Library/Frameworks/R.framework/Resources/bin/R CMD INSTALL GBScleanR StartedAt: 2025-11-14 15:18:26 -0500 (Fri, 14 Nov 2025) EndedAt: 2025-11-14 15:18:41 -0500 (Fri, 14 Nov 2025) EllapsedTime: 14.7 seconds RetCode: 0 Status: OK