Package: GBScleanR Version: 2.5.2 Command: /Library/Frameworks/R.framework/Resources/bin/R CMD build --keep-empty-dirs --no-resave-data GBScleanR StartedAt: 2025-11-14 16:24:00 -0500 (Fri, 14 Nov 2025) EndedAt: 2025-11-14 16:24:26 -0500 (Fri, 14 Nov 2025) EllapsedTime: 25.3 seconds RetCode: 1 Status: ERROR PackageFile: None PackageFileSize: NA