Package: GAprediction Version: 1.37.0 Command: /home/biocbuild/bbs-3.23-bioc/R/bin/R CMD INSTALL GAprediction StartedAt: 2025-11-14 15:06:40 -0500 (Fri, 14 Nov 2025) EndedAt: 2025-11-14 15:06:58 -0500 (Fri, 14 Nov 2025) EllapsedTime: 18.2 seconds RetCode: 0 Status: OK