Package: GAprediction Version: 1.37.0 Command: /home/biocbuild/bbs-3.23-bioc/R/bin/R CMD build --keep-empty-dirs --no-resave-data GAprediction StartedAt: 2025-11-14 17:40:52 -0500 (Fri, 14 Nov 2025) EndedAt: 2025-11-14 17:41:27 -0500 (Fri, 14 Nov 2025) EllapsedTime: 35.0 seconds RetCode: 0 Status: OK PackageFile: GAprediction_1.37.0.tar.gz PackageFileSize: 1.806 MiB