Package: GAprediction Version: 1.37.0 Command: /Library/Frameworks/R.framework/Resources/bin/R CMD INSTALL GAprediction StartedAt: 2025-11-14 15:03:59 -0500 (Fri, 14 Nov 2025) EndedAt: 2025-11-14 15:04:05 -0500 (Fri, 14 Nov 2025) EllapsedTime: 6.2 seconds RetCode: 0 Status: OK