Package: GAprediction Version: 1.37.0 Maintainer: Jon Bohlin MaintainerEmail: jon.bohlin at gmail.com git_url: https://git.bioconductor.org/packages/GAprediction git_branch: devel git_last_commit: d14bebe git_last_commit_date: 2025-10-29 10:33:53 -0500 (Wed, 29 Oct 2025)