Package: GARS Version: 1.31.0 Command: /home/biocbuild/bbs-3.23-bioc/R/bin/R CMD INSTALL GARS StartedAt: 2025-11-16 15:55:21 -0500 (Sun, 16 Nov 2025) EndedAt: 2025-11-16 15:56:16 -0500 (Sun, 16 Nov 2025) EllapsedTime: 54.6 seconds RetCode: 0 Status: OK