Package: GARS Version: 1.31.0 Command: /home/biocbuild/bbs-3.23-bioc/R/bin/R CMD build --keep-empty-dirs --no-resave-data GARS StartedAt: 2025-11-14 17:41:02 -0500 (Fri, 14 Nov 2025) EndedAt: 2025-11-14 17:42:57 -0500 (Fri, 14 Nov 2025) EllapsedTime: 115.1 seconds RetCode: 0 Status: OK PackageFile: GARS_1.31.0.tar.gz PackageFileSize: 438.8 KiB