Package: GARS Version: 1.31.0 Command: /Library/Frameworks/R.framework/Resources/bin/R CMD INSTALL GARS StartedAt: 2025-11-14 15:27:53 -0500 (Fri, 14 Nov 2025) EndedAt: 2025-11-14 15:28:16 -0500 (Fri, 14 Nov 2025) EllapsedTime: 22.3 seconds RetCode: 0 Status: OK