Package: GARS Version: 1.31.0 Command: /Library/Frameworks/R.framework/Resources/bin/R CMD build --keep-empty-dirs --no-resave-data GARS StartedAt: 2025-11-14 16:23:58 -0500 (Fri, 14 Nov 2025) EndedAt: 2025-11-14 16:24:49 -0500 (Fri, 14 Nov 2025) EllapsedTime: 50.6 seconds RetCode: 0 Status: OK PackageFile: GARS_1.31.0.tar.gz PackageFileSize: 438.6 KiB