Package: GARS Version: 1.31.0 Command: rm -rf GARS.buildbin-libdir && mkdir GARS.buildbin-libdir && /Users/biocbuild/BBS/utils/build-universal.sh GARS_1.31.0.tar.gz /Library/Frameworks/R.framework/Resources/bin/R GARS.buildbin-libdir StartedAt: 2025-11-14 23:33:30 -0500 (Fri, 14 Nov 2025) EndedAt: 2025-11-14 23:34:03 -0500 (Fri, 14 Nov 2025) EllapsedTime: 32.7 seconds RetCode: 0 Status: OK PackageFile: GARS_1.31.0.tgz PackageFileSize: 501.9 KiB