Package: GARS Version: 1.31.0 Maintainer: Mattia Chiesa MaintainerEmail: mattia.chiesa at hotmail.it git_url: https://git.bioconductor.org/packages/GARS git_branch: devel git_last_commit: 816c572 git_last_commit_date: 2025-10-29 10:43:37 -0500 (Wed, 29 Oct 2025)