Package: GA4GHshiny Version: 1.33.0 Command: /home/biocbuild/bbs-3.23-bioc/R/bin/R CMD INSTALL GA4GHshiny StartedAt: 2025-11-13 15:45:52 -0500 (Thu, 13 Nov 2025) EndedAt: 2025-11-13 15:46:32 -0500 (Thu, 13 Nov 2025) EllapsedTime: 39.9 seconds RetCode: 0 Status: OK