Package: GA4GHshiny Version: 1.33.0 Command: /home/biocbuild/bbs-3.23-bioc/R/bin/R CMD build --keep-empty-dirs --no-resave-data GA4GHshiny StartedAt: 2025-11-11 17:43:02 -0500 (Tue, 11 Nov 2025) EndedAt: 2025-11-11 17:43:43 -0500 (Tue, 11 Nov 2025) EllapsedTime: 41.1 seconds RetCode: 0 Status: OK PackageFile: GA4GHshiny_1.33.0.tar.gz PackageFileSize: 298.8 KiB