Package: GA4GHshiny Version: 1.33.0 Command: /Library/Frameworks/R.framework/Resources/bin/R CMD INSTALL GA4GHshiny StartedAt: 2025-11-12 15:41:58 -0500 (Wed, 12 Nov 2025) EndedAt: 2025-11-12 15:42:14 -0500 (Wed, 12 Nov 2025) EllapsedTime: 16.0 seconds RetCode: 0 Status: OK