Package: GA4GHshiny Version: 1.33.0 Command: /Library/Frameworks/R.framework/Resources/bin/R CMD build --keep-empty-dirs --no-resave-data GA4GHshiny StartedAt: 2025-11-12 16:16:42 -0500 (Wed, 12 Nov 2025) EndedAt: 2025-11-12 16:17:00 -0500 (Wed, 12 Nov 2025) EllapsedTime: 18.2 seconds RetCode: 0 Status: OK PackageFile: GA4GHshiny_1.33.0.tar.gz PackageFileSize: 298.7 KiB