Package: GA4GHshiny Version: 1.33.0 Maintainer: Welliton Souza MaintainerEmail: well309 at gmail.com git_url: https://git.bioconductor.org/packages/GA4GHshiny git_branch: devel git_last_commit: ae5f20b git_last_commit_date: 2025-10-29 10:38:45 -0500 (Wed, 29 Oct 2025)