Package: GA4GHclient Version: 1.35.0 Command: /Library/Frameworks/R.framework/Resources/bin/R CMD INSTALL GA4GHclient StartedAt: 2025-11-13 15:24:19 -0500 (Thu, 13 Nov 2025) EndedAt: 2025-11-13 15:24:35 -0500 (Thu, 13 Nov 2025) EllapsedTime: 15.7 seconds RetCode: 0 Status: OK