Package: GA4GHclient Version: 1.35.0 Command: /Library/Frameworks/R.framework/Resources/bin/R CMD build --keep-empty-dirs --no-resave-data GA4GHclient StartedAt: 2025-11-13 16:26:50 -0500 (Thu, 13 Nov 2025) EndedAt: 2025-11-13 16:27:28 -0500 (Thu, 13 Nov 2025) EllapsedTime: 37.5 seconds RetCode: 0 Status: OK PackageFile: GA4GHclient_1.35.0.tar.gz PackageFileSize: 637.6 KiB