Package: GA4GHclient Version: 1.35.0 Command: rm -rf GA4GHclient.buildbin-libdir && mkdir GA4GHclient.buildbin-libdir && /Users/biocbuild/BBS/utils/build-universal.sh GA4GHclient_1.35.0.tar.gz /Library/Frameworks/R.framework/Resources/bin/R GA4GHclient.buildbin-libdir StartedAt: 2025-11-13 23:38:13 -0500 (Thu, 13 Nov 2025) EndedAt: 2025-11-13 23:38:38 -0500 (Thu, 13 Nov 2025) EllapsedTime: 25.4 seconds RetCode: 0 Status: OK PackageFile: GA4GHclient_1.35.0.tgz PackageFileSize: 760.6 KiB