Package: GA4GHclient Version: 1.35.0 Maintainer: Welliton Souza MaintainerEmail: well309 at gmail.com git_url: https://git.bioconductor.org/packages/GA4GHclient git_branch: devel git_last_commit: 22fbbfa git_last_commit_date: 2025-10-29 10:37:37 -0500 (Wed, 29 Oct 2025)