Package: G4SNVHunter Version: 1.3.0 Maintainer: Rongxin Zhang MaintainerEmail: rongxinzhang at outlook.com git_url: https://git.bioconductor.org/packages/G4SNVHunter git_branch: devel git_last_commit: ec8c408 git_last_commit_date: 2025-10-29 11:33:18 -0500 (Wed, 29 Oct 2025)