Package: FuseSOM Version: 1.13.0 Command: /Library/Frameworks/R.framework/Resources/bin/R CMD INSTALL FuseSOM StartedAt: 2025-11-13 15:11:19 -0500 (Thu, 13 Nov 2025) EndedAt: 2025-11-13 15:11:30 -0500 (Thu, 13 Nov 2025) EllapsedTime: 10.7 seconds RetCode: 0 Status: OK