Package: FuseSOM Version: 1.13.0 Command: /Library/Frameworks/R.framework/Resources/bin/R CMD build --keep-empty-dirs --no-resave-data FuseSOM StartedAt: 2025-11-12 16:16:36 -0500 (Wed, 12 Nov 2025) EndedAt: 2025-11-12 16:17:02 -0500 (Wed, 12 Nov 2025) EllapsedTime: 26.3 seconds RetCode: 0 Status: OK PackageFile: FuseSOM_1.13.0.tar.gz PackageFileSize: 2.642 MiB